Package: ceRNAnetsim Version: 1.18.0 Command: /Library/Frameworks/R.framework/Resources/bin/R CMD build --keep-empty-dirs --no-resave-data ceRNAnetsim StartedAt: 2025-03-31 17:33:10 -0400 (Mon, 31 Mar 2025) EndedAt: 2025-03-31 17:43:01 -0400 (Mon, 31 Mar 2025) EllapsedTime: 591.1 seconds RetCode: 0 Status: OK PackageFile: ceRNAnetsim_1.18.0.tar.gz PackageFileSize: 3.054 MiB