Package: chromPlot Version: 1.34.0 Command: /Library/Frameworks/R.framework/Resources/bin/R CMD build --keep-empty-dirs --no-resave-data chromPlot StartedAt: 2025-03-31 17:40:24 -0400 (Mon, 31 Mar 2025) EndedAt: 2025-03-31 17:41:58 -0400 (Mon, 31 Mar 2025) EllapsedTime: 94.7 seconds RetCode: 0 Status: OK PackageFile: chromPlot_1.34.0.tar.gz PackageFileSize: 1.52 MiB