Package: cleanUpdTSeq Version: 1.44.0 Command: /home/biocbuild/R/R/bin/R CMD build --keep-empty-dirs --no-resave-data cleanUpdTSeq StartedAt: 2025-03-31 22:32:05 -0000 (Mon, 31 Mar 2025) EndedAt: 2025-03-31 22:33:41 -0000 (Mon, 31 Mar 2025) EllapsedTime: 96.0 seconds RetCode: 0 Status: OK PackageFile: cleanUpdTSeq_1.44.0.tar.gz PackageFileSize: 4.034 MiB