Package: cliProfiler Version: 1.12.0 Command: /Library/Frameworks/R.framework/Resources/bin/R CMD INSTALL cliProfiler StartedAt: 2025-03-31 16:03:20 -0400 (Mon, 31 Mar 2025) EndedAt: 2025-03-31 16:03:58 -0400 (Mon, 31 Mar 2025) EllapsedTime: 38.2 seconds RetCode: 0 Status: OK