Package: clipper Version: 1.46.0 Command: /home/biocbuild/R/R/bin/R CMD INSTALL clipper StartedAt: 2025-03-31 20:31:55 -0000 (Mon, 31 Mar 2025) EndedAt: 2025-03-31 20:32:44 -0000 (Mon, 31 Mar 2025) EllapsedTime: 49.1 seconds RetCode: 0 Status: OK