Package: clusterStab Version: 1.78.0 Command: /home/biocbuild/R/R/bin/R CMD build --keep-empty-dirs --no-resave-data clusterStab StartedAt: 2025-03-31 22:36:03 -0000 (Mon, 31 Mar 2025) EndedAt: 2025-03-31 22:36:18 -0000 (Mon, 31 Mar 2025) EllapsedTime: 15.0 seconds RetCode: 0 Status: OK PackageFile: clusterStab_1.78.0.tar.gz PackageFileSize: 178.6 KiB