Package: cmapR Version: 1.18.0 Command: /home/biocbuild/R/R/bin/R CMD INSTALL cmapR StartedAt: 2025-03-31 20:23:22 -0000 (Mon, 31 Mar 2025) EndedAt: 2025-03-31 20:23:53 -0000 (Mon, 31 Mar 2025) EllapsedTime: 31.0 seconds RetCode: 0 Status: OK