Package: comapr Version: 1.10.0 Command: /home/biocbuild/bbs-3.20-bioc/R/bin/R CMD INSTALL comapr StartedAt: 2025-03-31 15:38:57 -0400 (Mon, 31 Mar 2025) EndedAt: 2025-03-31 15:39:50 -0400 (Mon, 31 Mar 2025) EllapsedTime: 52.9 seconds RetCode: 0 Status: OK