Package: comapr Version: 1.10.0 Command: /home/biocbuild/R/R/bin/R CMD INSTALL comapr StartedAt: 2025-03-31 20:47:07 -0000 (Mon, 31 Mar 2025) EndedAt: 2025-03-31 20:48:12 -0000 (Mon, 31 Mar 2025) EllapsedTime: 65.5 seconds RetCode: 0 Status: OK