Package: consensus Version: 1.24.0 Command: /Library/Frameworks/R.framework/Resources/bin/R CMD INSTALL consensus StartedAt: 2025-03-31 15:14:23 -0400 (Mon, 31 Mar 2025) EndedAt: 2025-03-31 15:14:24 -0400 (Mon, 31 Mar 2025) EllapsedTime: 1.7 seconds RetCode: 0 Status: OK