Package: csdR Version: 1.12.0 Command: /home/biocbuild/R/R/bin/R CMD build --keep-empty-dirs --no-resave-data csdR StartedAt: 2025-03-31 22:49:32 -0000 (Mon, 31 Mar 2025) EndedAt: 2025-03-31 22:50:29 -0000 (Mon, 31 Mar 2025) EllapsedTime: 57.0 seconds RetCode: 0 Status: OK PackageFile: csdR_1.12.0.tar.gz PackageFileSize: 1.388 MiB