Package: diffHic Version: 1.38.0 Command: /home/biocbuild/R/R/bin/R CMD build --keep-empty-dirs --no-resave-data diffHic StartedAt: 2025-03-31 23:05:56 -0000 (Mon, 31 Mar 2025) EndedAt: 2025-03-31 23:08:08 -0000 (Mon, 31 Mar 2025) EllapsedTime: 132.1 seconds RetCode: 0 Status: OK PackageFile: diffHic_1.38.0.tar.gz PackageFileSize: 1.512 MiB