Package: easyRNASeq Version: 2.42.0 Command: /Library/Frameworks/R.framework/Resources/bin/R CMD build --keep-empty-dirs --no-resave-data easyRNASeq StartedAt: 2025-03-31 22:54:07 -0400 (Mon, 31 Mar 2025) EndedAt: 2025-03-31 22:59:28 -0400 (Mon, 31 Mar 2025) EllapsedTime: 321.1 seconds RetCode: 0 Status: OK PackageFile: easyRNASeq_2.42.0.tar.gz PackageFileSize: 69.55 MiB