Package: enrichViewNet Version: 1.4.0 Command: /home/biocbuild/bbs-3.20-bioc/R/bin/R CMD build --keep-empty-dirs --no-resave-data --md5 enrichViewNet StartedAt: 2025-03-31 17:08:58 -0400 (Mon, 31 Mar 2025) EndedAt: 2025-03-31 17:09:53 -0400 (Mon, 31 Mar 2025) EllapsedTime: 55.0 seconds RetCode: 0 Status: OK PackageFile: enrichViewNet_1.4.0.tar.gz PackageFileSize: 4.261 MiB