Package: epidecodeR Version: 1.14.0 Command: /Library/Frameworks/R.framework/Resources/bin/R CMD INSTALL epidecodeR StartedAt: 2025-03-31 16:35:37 -0400 (Mon, 31 Mar 2025) EndedAt: 2025-03-31 16:36:42 -0400 (Mon, 31 Mar 2025) EllapsedTime: 64.4 seconds RetCode: 0 Status: OK