Package: epidecodeR Version: 1.14.0 Command: chmod a+r epidecodeR -R && F:\biocbuild\bbs-3.20-bioc\R\bin\R.exe CMD build --keep-empty-dirs --no-resave-data epidecodeR StartedAt: 2025-03-31 18:41:45 -0400 (Mon, 31 Mar 2025) EndedAt: 2025-03-31 18:42:43 -0400 (Mon, 31 Mar 2025) EllapsedTime: 58.5 seconds RetCode: 0 Status: OK PackageFile: epidecodeR_1.14.0.tar.gz PackageFileSize: 1.707 MiB