Package: epidecodeR Version: 1.14.0 Command: /home/biocbuild/R/R/bin/R CMD INSTALL epidecodeR StartedAt: 2025-03-31 21:08:16 -0000 (Mon, 31 Mar 2025) EndedAt: 2025-03-31 21:08:57 -0000 (Mon, 31 Mar 2025) EllapsedTime: 40.7 seconds RetCode: 0 Status: OK