Package: epimutacions Version: 1.10.0 Command: /Library/Frameworks/R.framework/Resources/bin/R CMD INSTALL epimutacions StartedAt: 2025-03-31 18:03:21 -0400 (Mon, 31 Mar 2025) EndedAt: 2025-03-31 18:04:16 -0400 (Mon, 31 Mar 2025) EllapsedTime: 55.3 seconds RetCode: 0 Status: OK