Package: epistack Version: 1.12.0 Command: /Library/Frameworks/R.framework/Resources/bin/R CMD INSTALL epistack StartedAt: 2025-03-31 15:23:34 -0400 (Mon, 31 Mar 2025) EndedAt: 2025-03-31 15:23:55 -0400 (Mon, 31 Mar 2025) EllapsedTime: 21.8 seconds RetCode: 0 Status: OK