Package: fastseg Version: 1.52.0 Command: /home/biocbuild/bbs-3.20-bioc/R/bin/R CMD build --keep-empty-dirs --no-resave-data --md5 fastseg StartedAt: 2025-03-31 17:14:42 -0400 (Mon, 31 Mar 2025) EndedAt: 2025-03-31 17:15:22 -0400 (Mon, 31 Mar 2025) EllapsedTime: 40.0 seconds RetCode: 0 Status: OK PackageFile: fastseg_1.52.0.tar.gz PackageFileSize: 719.2 KiB