Package: flowAI Version: 1.36.0 Command: F:\biocbuild\bbs-3.20-bioc\R\bin\R.exe CMD INSTALL flowAI StartedAt: 2025-03-31 15:40:19 -0400 (Mon, 31 Mar 2025) EndedAt: 2025-03-31 15:40:36 -0400 (Mon, 31 Mar 2025) EllapsedTime: 17.5 seconds RetCode: 0 Status: OK