Package: flowClean Version: 1.44.0 Command: /home/biocbuild/R/R/bin/R CMD INSTALL flowClean StartedAt: 2025-03-31 20:23:28 -0000 (Mon, 31 Mar 2025) EndedAt: 2025-03-31 20:23:38 -0000 (Mon, 31 Mar 2025) EllapsedTime: 9.8 seconds RetCode: 0 Status: OK