Package: flowDensity Version: 1.40.0 Command: /Library/Frameworks/R.framework/Resources/bin/R CMD INSTALL flowDensity StartedAt: 2025-03-31 16:12:53 -0400 (Mon, 31 Mar 2025) EndedAt: 2025-03-31 16:13:17 -0400 (Mon, 31 Mar 2025) EllapsedTime: 23.9 seconds RetCode: 0 Status: OK