Package: flowMatch Version: 1.42.0 Command: /home/biocbuild/R/R/bin/R CMD INSTALL flowMatch StartedAt: 2025-03-31 20:23:16 -0000 (Mon, 31 Mar 2025) EndedAt: 2025-03-31 20:23:54 -0000 (Mon, 31 Mar 2025) EllapsedTime: 38.6 seconds RetCode: 0 Status: OK