Package: flowWorkspace Version: 4.18.1 Command: /Library/Frameworks/R.framework/Resources/bin/R CMD INSTALL flowWorkspace StartedAt: 2025-03-31 15:20:00 -0400 (Mon, 31 Mar 2025) EndedAt: 2025-03-31 15:24:17 -0400 (Mon, 31 Mar 2025) EllapsedTime: 256.3 seconds RetCode: 0 Status: OK