Package: fobitools Version: 1.14.0 Command: /home/biocbuild/R/R/bin/R CMD INSTALL fobitools StartedAt: 2025-03-31 21:00:31 -0000 (Mon, 31 Mar 2025) EndedAt: 2025-03-31 21:00:46 -0000 (Mon, 31 Mar 2025) EllapsedTime: 15.3 seconds RetCode: 0 Status: OK