Package: funtooNorm Version: 1.30.0 Command: /Library/Frameworks/R.framework/Resources/bin/R CMD INSTALL funtooNorm StartedAt: 2025-03-31 18:01:19 -0400 (Mon, 31 Mar 2025) EndedAt: 2025-03-31 18:02:09 -0400 (Mon, 31 Mar 2025) EllapsedTime: 50.6 seconds RetCode: 0 Status: OK