Package: gCrisprTools Version: 2.12.0 Command: /home/biocbuild/R/R/bin/R CMD INSTALL gCrisprTools StartedAt: 2025-03-31 20:42:29 -0000 (Mon, 31 Mar 2025) EndedAt: 2025-03-31 20:43:02 -0000 (Mon, 31 Mar 2025) EllapsedTime: 33.8 seconds RetCode: 0 Status: OK