Package: gcapc Version: 1.30.0 Command: /Library/Frameworks/R.framework/Resources/bin/R CMD INSTALL gcapc StartedAt: 2025-03-31 15:34:53 -0400 (Mon, 31 Mar 2025) EndedAt: 2025-03-31 15:35:58 -0400 (Mon, 31 Mar 2025) EllapsedTime: 65.8 seconds RetCode: 0 Status: OK