Package: gcapc Version: 1.30.0 Command: /home/biocbuild/R/R/bin/R CMD INSTALL gcapc StartedAt: 2025-03-31 20:32:36 -0000 (Mon, 31 Mar 2025) EndedAt: 2025-03-31 20:33:15 -0000 (Mon, 31 Mar 2025) EllapsedTime: 39.0 seconds RetCode: 0 Status: OK