Package: gemma.R Version: 3.2.1 Command: /Library/Frameworks/R.framework/Resources/bin/R CMD INSTALL gemma.R StartedAt: 2025-03-31 16:33:10 -0400 (Mon, 31 Mar 2025) EndedAt: 2025-03-31 16:33:13 -0400 (Mon, 31 Mar 2025) EllapsedTime: 3.5 seconds RetCode: 0 Status: OK