Package: gemma.R Version: 3.2.1 Command: /home/biocbuild/bbs-3.20-bioc/R/bin/R CMD build --keep-empty-dirs --no-resave-data --md5 gemma.R StartedAt: 2025-03-31 17:20:48 -0400 (Mon, 31 Mar 2025) EndedAt: 2025-03-31 17:24:51 -0400 (Mon, 31 Mar 2025) EllapsedTime: 243.3 seconds RetCode: 1 Status: ERROR PackageFile: None PackageFileSize: NA