Package: genArise Version: 1.82.0 Command: /home/biocbuild/bbs-3.20-bioc/R/bin/R CMD build --keep-empty-dirs --no-resave-data --md5 genArise StartedAt: 2025-03-31 17:20:54 -0400 (Mon, 31 Mar 2025) EndedAt: 2025-03-31 17:21:05 -0400 (Mon, 31 Mar 2025) EllapsedTime: 11.0 seconds RetCode: 0 Status: OK PackageFile: genArise_1.82.0.tar.gz PackageFileSize: 1.028 MiB