Package: gep2pep Version: 1.26.0 Command: /home/biocbuild/bbs-3.20-bioc/R/bin/R CMD build --keep-empty-dirs --no-resave-data --md5 gep2pep StartedAt: 2025-03-31 17:24:46 -0400 (Mon, 31 Mar 2025) EndedAt: 2025-03-31 17:25:09 -0400 (Mon, 31 Mar 2025) EllapsedTime: 23.0 seconds RetCode: 0 Status: OK PackageFile: gep2pep_1.26.0.tar.gz PackageFileSize: 122.8 KiB