Package: getDEE2 Version: 1.16.2 Command: /Library/Frameworks/R.framework/Resources/bin/R CMD build --keep-empty-dirs --no-resave-data getDEE2 StartedAt: 2025-04-01 00:10:41 -0400 (Tue, 01 Apr 2025) EndedAt: 2025-04-01 00:12:07 -0400 (Tue, 01 Apr 2025) EllapsedTime: 85.6 seconds RetCode: 0 Status: OK PackageFile: getDEE2_1.16.2.tar.gz PackageFileSize: 21.65 KiB