Package: ggseqalign Version: 1.0.0 Command: /Library/Frameworks/R.framework/Resources/bin/R CMD build --keep-empty-dirs --no-resave-data ggseqalign StartedAt: 2025-04-01 00:14:48 -0400 (Tue, 01 Apr 2025) EndedAt: 2025-04-01 00:15:20 -0400 (Tue, 01 Apr 2025) EllapsedTime: 32.0 seconds RetCode: 0 Status: OK PackageFile: ggseqalign_1.0.0.tar.gz PackageFileSize: 716.7 KiB