Package: ggtree Version: 3.14.0 Command: /home/biocbuild/R/R/bin/R CMD build --keep-empty-dirs --no-resave-data ggtree StartedAt: 2025-03-31 23:48:45 -0000 (Mon, 31 Mar 2025) EndedAt: 2025-03-31 23:49:02 -0000 (Mon, 31 Mar 2025) EllapsedTime: 17.0 seconds RetCode: 0 Status: OK PackageFile: ggtree_3.14.0.tar.gz PackageFileSize: 354.2 KiB