Package: glmSparseNet Version: 1.24.0 Command: chmod a+r glmSparseNet -R && F:\biocbuild\bbs-3.20-bioc\R\bin\R.exe CMD build --keep-empty-dirs --no-resave-data glmSparseNet StartedAt: 2025-03-31 19:17:30 -0400 (Mon, 31 Mar 2025) EndedAt: 2025-03-31 19:23:15 -0400 (Mon, 31 Mar 2025) EllapsedTime: 345.4 seconds RetCode: 0 Status: OK PackageFile: glmSparseNet_1.24.0.tar.gz PackageFileSize: 1.96 MiB