Package: gpls Version: 1.78.0 Command: /Library/Frameworks/R.framework/Resources/bin/R CMD INSTALL gpls StartedAt: 2025-03-31 15:03:46 -0400 (Mon, 31 Mar 2025) EndedAt: 2025-03-31 15:03:48 -0400 (Mon, 31 Mar 2025) EllapsedTime: 2.5 seconds RetCode: 0 Status: OK