Package: gpls Version: 1.78.0 Command: /home/biocbuild/bbs-3.20-bioc/R/bin/R CMD build --keep-empty-dirs --no-resave-data --md5 gpls StartedAt: 2025-03-31 17:29:54 -0400 (Mon, 31 Mar 2025) EndedAt: 2025-03-31 17:30:03 -0400 (Mon, 31 Mar 2025) EllapsedTime: 9.0 seconds RetCode: 0 Status: OK PackageFile: gpls_1.78.0.tar.gz PackageFileSize: 234.1 KiB