Package: gpls Version: 1.78.0 Command: /home/biocbuild/R/R/bin/R CMD build --keep-empty-dirs --no-resave-data gpls StartedAt: 2025-03-31 23:57:41 -0000 (Mon, 31 Mar 2025) EndedAt: 2025-03-31 23:57:50 -0000 (Mon, 31 Mar 2025) EllapsedTime: 9.0 seconds RetCode: 0 Status: OK PackageFile: gpls_1.78.0.tar.gz PackageFileSize: 226.5 KiB