Package: gscreend Version: 1.20.0 Command: /home/biocbuild/R/R/bin/R CMD INSTALL gscreend StartedAt: 2025-03-31 20:28:47 -0000 (Mon, 31 Mar 2025) EndedAt: 2025-03-31 20:29:13 -0000 (Mon, 31 Mar 2025) EllapsedTime: 26.9 seconds RetCode: 0 Status: OK