Package: hummingbird Version: 1.16.0 Command: /home/biocbuild/bbs-3.20-bioc/R/bin/R CMD INSTALL hummingbird StartedAt: 2025-03-31 15:16:35 -0400 (Mon, 31 Mar 2025) EndedAt: 2025-03-31 15:16:58 -0400 (Mon, 31 Mar 2025) EllapsedTime: 23.5 seconds RetCode: 0 Status: OK