Package: hyperdraw Version: 1.58.0 Command: /Library/Frameworks/R.framework/Resources/bin/R CMD build --keep-empty-dirs --no-resave-data hyperdraw StartedAt: 2025-03-31 19:25:50 -0400 (Mon, 31 Mar 2025) EndedAt: 2025-03-31 19:26:17 -0400 (Mon, 31 Mar 2025) EllapsedTime: 26.9 seconds RetCode: 0 Status: OK PackageFile: hyperdraw_1.58.0.tar.gz PackageFileSize: 204.2 KiB