Package: iClusterPlus Version: 1.42.0 Command: F:\biocbuild\bbs-3.20-bioc\R\bin\R.exe CMD INSTALL iClusterPlus StartedAt: 2025-03-31 15:27:57 -0400 (Mon, 31 Mar 2025) EndedAt: 2025-03-31 15:28:52 -0400 (Mon, 31 Mar 2025) EllapsedTime: 54.5 seconds RetCode: 0 Status: OK