Package: iPAC Version: 1.50.0 Command: /Library/Frameworks/R.framework/Resources/bin/R CMD INSTALL iPAC StartedAt: 2025-03-31 17:24:15 -0400 (Mon, 31 Mar 2025) EndedAt: 2025-03-31 17:24:31 -0400 (Mon, 31 Mar 2025) EllapsedTime: 16.8 seconds RetCode: 0 Status: OK