Package: iPAC Version: 1.50.0 Command: /home/biocbuild/bbs-3.20-bioc/R/bin/R CMD build --keep-empty-dirs --no-resave-data --md5 iPAC StartedAt: 2025-03-31 17:44:05 -0400 (Mon, 31 Mar 2025) EndedAt: 2025-03-31 17:44:22 -0400 (Mon, 31 Mar 2025) EllapsedTime: 17.0 seconds RetCode: 0 Status: OK PackageFile: iPAC_1.50.0.tar.gz PackageFileSize: 620.9 KiB