Package: iSEEfier Version: 1.2.0 Command: /home/biocbuild/bbs-3.20-bioc/R/bin/R CMD build --keep-empty-dirs --no-resave-data --md5 iSEEfier StartedAt: 2025-03-31 17:44:32 -0400 (Mon, 31 Mar 2025) EndedAt: 2025-03-31 17:45:43 -0400 (Mon, 31 Mar 2025) EllapsedTime: 71.0 seconds RetCode: 0 Status: OK PackageFile: iSEEfier_1.2.0.tar.gz PackageFileSize: 492 KiB