Package: iSEEpathways Version: 1.4.0 Command: /Library/Frameworks/R.framework/Resources/bin/R CMD INSTALL iSEEpathways StartedAt: 2025-03-31 15:59:36 -0400 (Mon, 31 Mar 2025) EndedAt: 2025-03-31 16:00:40 -0400 (Mon, 31 Mar 2025) EllapsedTime: 64.2 seconds RetCode: 0 Status: OK