Package: iSEEtree Version: 1.0.0 Command: /home/biocbuild/R/R/bin/R CMD build --keep-empty-dirs --no-resave-data iSEEtree StartedAt: 2025-04-01 00:22:16 -0000 (Tue, 01 Apr 2025) EndedAt: 2025-04-01 00:23:38 -0000 (Tue, 01 Apr 2025) EllapsedTime: 82.0 seconds RetCode: 0 Status: OK PackageFile: iSEEtree_1.0.0.tar.gz PackageFileSize: 723.6 KiB